BEGIN:VCALENDAR
VERSION:2.0
PRODID:-//Schachclub Forchheim - ECPv6.15.20//NONSGML v1.0//EN
CALSCALE:GREGORIAN
METHOD:PUBLISH
X-WR-CALNAME:Schachclub Forchheim
X-ORIGINAL-URL:https://www.schachclub-forchheim.de
X-WR-CALDESC:Veranstaltungen für Schachclub Forchheim
REFRESH-INTERVAL;VALUE=DURATION:PT1H
X-Robots-Tag:noindex
X-PUBLISHED-TTL:PT1H
BEGIN:VTIMEZONE
TZID:Europe/Berlin
BEGIN:DAYLIGHT
TZOFFSETFROM:+0100
TZOFFSETTO:+0200
TZNAME:CEST
DTSTART:20250330T010000
END:DAYLIGHT
BEGIN:STANDARD
TZOFFSETFROM:+0200
TZOFFSETTO:+0100
TZNAME:CET
DTSTART:20251026T010000
END:STANDARD
BEGIN:DAYLIGHT
TZOFFSETFROM:+0100
TZOFFSETTO:+0200
TZNAME:CEST
DTSTART:20260329T010000
END:DAYLIGHT
BEGIN:STANDARD
TZOFFSETFROM:+0200
TZOFFSETTO:+0100
TZNAME:CET
DTSTART:20261025T010000
END:STANDARD
BEGIN:DAYLIGHT
TZOFFSETFROM:+0100
TZOFFSETTO:+0200
TZNAME:CEST
DTSTART:20270328T010000
END:DAYLIGHT
BEGIN:STANDARD
TZOFFSETFROM:+0200
TZOFFSETTO:+0100
TZNAME:CET
DTSTART:20271031T010000
END:STANDARD
END:VTIMEZONE
BEGIN:VEVENT
DTSTART;VALUE=DATE:20260612
DTEND;VALUE=DATE:20260616
DTSTAMP:20260422T123018
CREATED:20260108T133444Z
LAST-MODIFIED:20260224T121728Z
UID:12035-1781236800-1781495999@www.schachclub-forchheim.de
SUMMARY:2. Frühjahrs-Open (Büchenbach/Roth)
DESCRIPTION:
URL:/event/2-fruehjars-open-buechenbach-roth/
CATEGORIES:Turniere,Turniere extern
END:VEVENT
END:VCALENDAR