BEGIN:VCALENDAR
VERSION:2.0
PRODID:-//Schachclub Forchheim - ECPv6.15.20//NONSGML v1.0//EN
CALSCALE:GREGORIAN
METHOD:PUBLISH
X-WR-CALNAME:Schachclub Forchheim
X-ORIGINAL-URL:https://www.schachclub-forchheim.de
X-WR-CALDESC:Veranstaltungen für Schachclub Forchheim
REFRESH-INTERVAL;VALUE=DURATION:PT1H
X-Robots-Tag:noindex
X-PUBLISHED-TTL:PT1H
BEGIN:VTIMEZONE
TZID:Europe/Berlin
BEGIN:DAYLIGHT
TZOFFSETFROM:+0100
TZOFFSETTO:+0200
TZNAME:CEST
DTSTART:20240331T010000
END:DAYLIGHT
BEGIN:STANDARD
TZOFFSETFROM:+0200
TZOFFSETTO:+0100
TZNAME:CET
DTSTART:20241027T010000
END:STANDARD
BEGIN:DAYLIGHT
TZOFFSETFROM:+0100
TZOFFSETTO:+0200
TZNAME:CEST
DTSTART:20250330T010000
END:DAYLIGHT
BEGIN:STANDARD
TZOFFSETFROM:+0200
TZOFFSETTO:+0100
TZNAME:CET
DTSTART:20251026T010000
END:STANDARD
BEGIN:DAYLIGHT
TZOFFSETFROM:+0100
TZOFFSETTO:+0200
TZNAME:CEST
DTSTART:20260329T010000
END:DAYLIGHT
BEGIN:STANDARD
TZOFFSETFROM:+0200
TZOFFSETTO:+0100
TZNAME:CET
DTSTART:20261025T010000
END:STANDARD
END:VTIMEZONE
BEGIN:VEVENT
DTSTART;TZID=Europe/Berlin:20251107T193000
DTEND;TZID=Europe/Berlin:20251107T210000
DTSTAMP:20260424T142242
CREATED:20251014T113007Z
LAST-MODIFIED:20251019T210323Z
UID:11836-1762543800-1762549200@www.schachclub-forchheim.de
SUMMARY:Jahreshauptversammlung
DESCRIPTION:Liebe Mitglieder\, \nich lade Euch zur Jahreshauptversammlung am 07.11.2025 ins Haus des Handwerks\, Schützenstraße 26\, 91301 Forchheim\, ab 19.30 Uhr ein. \n\nTagesordnung:\n1. Begrüßung und Feststellung der Beschlussfähigkeit\n2. Berichte der Vorstandschaft\n3. Kassenbericht und Bericht der Kassenprüfer\n4. Entlastung der Vorstandschaft \n5. Bildung eines Wahlausschusses\n6. Neuwahlen\n7. Anträge\n8. Verschiedenes\n \nAnträge sind schriftlich bis spätestens 02.11.2025 einzureichen an\nheidrichmanfred@aol.com\n \nMit freundlichen Grüßen\nManfred Heidrich
URL:/event/jahreshauptversammlung-2/
CATEGORIES:Events
END:VEVENT
END:VCALENDAR