BEGIN:VCALENDAR
VERSION:2.0
PRODID:-//Schachclub Forchheim - ECPv6.15.20//NONSGML v1.0//EN
CALSCALE:GREGORIAN
METHOD:PUBLISH
X-WR-CALNAME:Schachclub Forchheim
X-ORIGINAL-URL:https://www.schachclub-forchheim.de
X-WR-CALDESC:Veranstaltungen für Schachclub Forchheim
REFRESH-INTERVAL;VALUE=DURATION:PT1H
X-Robots-Tag:noindex
X-PUBLISHED-TTL:PT1H
BEGIN:VTIMEZONE
TZID:Europe/Berlin
BEGIN:DAYLIGHT
TZOFFSETFROM:+0100
TZOFFSETTO:+0200
TZNAME:CEST
DTSTART:20240331T010000
END:DAYLIGHT
BEGIN:STANDARD
TZOFFSETFROM:+0200
TZOFFSETTO:+0100
TZNAME:CET
DTSTART:20241027T010000
END:STANDARD
BEGIN:DAYLIGHT
TZOFFSETFROM:+0100
TZOFFSETTO:+0200
TZNAME:CEST
DTSTART:20250330T010000
END:DAYLIGHT
BEGIN:STANDARD
TZOFFSETFROM:+0200
TZOFFSETTO:+0100
TZNAME:CET
DTSTART:20251026T010000
END:STANDARD
BEGIN:DAYLIGHT
TZOFFSETFROM:+0100
TZOFFSETTO:+0200
TZNAME:CEST
DTSTART:20260329T010000
END:DAYLIGHT
BEGIN:STANDARD
TZOFFSETFROM:+0200
TZOFFSETTO:+0100
TZNAME:CET
DTSTART:20261025T010000
END:STANDARD
END:VTIMEZONE
BEGIN:VEVENT
DTSTART;TZID=Europe/Berlin:20250221T193000
DTEND;TZID=Europe/Berlin:20250221T230000
DTSTAMP:20260425T042629
CREATED:20241114T154547Z
LAST-MODIFIED:20241114T154547Z
UID:10527-1740166200-1740178800@www.schachclub-forchheim.de
SUMMARY:K3 Finale: FO3 vs Röttenbach (A)
DESCRIPTION:
URL:/event/k3-finale-fo3-vs-roettenbach-a/
CATEGORIES:3. Mannschaft,Ligaspiel
END:VEVENT
END:VCALENDAR