BEGIN:VCALENDAR
VERSION:2.0
PRODID:-//Schachclub Forchheim - ECPv6.15.20//NONSGML v1.0//EN
CALSCALE:GREGORIAN
METHOD:PUBLISH
X-ORIGINAL-URL:https://www.schachclub-forchheim.de
X-WR-CALDESC:Veranstaltungen für Schachclub Forchheim
REFRESH-INTERVAL;VALUE=DURATION:PT1H
X-Robots-Tag:noindex
X-PUBLISHED-TTL:PT1H
BEGIN:VTIMEZONE
TZID:Europe/Berlin
BEGIN:DAYLIGHT
TZOFFSETFROM:+0100
TZOFFSETTO:+0200
TZNAME:CEST
DTSTART:20240331T010000
END:DAYLIGHT
BEGIN:STANDARD
TZOFFSETFROM:+0200
TZOFFSETTO:+0100
TZNAME:CET
DTSTART:20241027T010000
END:STANDARD
BEGIN:DAYLIGHT
TZOFFSETFROM:+0100
TZOFFSETTO:+0200
TZNAME:CEST
DTSTART:20250330T010000
END:DAYLIGHT
BEGIN:STANDARD
TZOFFSETFROM:+0200
TZOFFSETTO:+0100
TZNAME:CET
DTSTART:20251026T010000
END:STANDARD
BEGIN:DAYLIGHT
TZOFFSETFROM:+0100
TZOFFSETTO:+0200
TZNAME:CEST
DTSTART:20260329T010000
END:DAYLIGHT
BEGIN:STANDARD
TZOFFSETFROM:+0200
TZOFFSETTO:+0100
TZNAME:CET
DTSTART:20261025T010000
END:STANDARD
END:VTIMEZONE
BEGIN:VEVENT
DTSTART;TZID=Europe/Berlin:20250704T170000
DTEND;TZID=Europe/Berlin:20250704T190000
DTSTAMP:20260424T173600
CREATED:20250525T153145Z
LAST-MODIFIED:20250525T153145Z
UID:11426-1751648400-1751655600@www.schachclub-forchheim.de
SUMMARY:Jugendschach
DESCRIPTION:
URL:/event/jugendschach-31/
CATEGORIES:Jugend,Training
END:VEVENT
BEGIN:VEVENT
DTSTART;TZID=Europe/Berlin:20250704T190000
DTEND;TZID=Europe/Berlin:20250704T220000
DTSTAMP:20260424T173600
CREATED:20250601T090549Z
LAST-MODIFIED:20250611T110827Z
UID:11457-1751655600-1751666400@www.schachclub-forchheim.de
SUMMARY:Sportlerkerwa des TSV Kirchehrenbach
DESCRIPTION:mit: Jason\, Benni\, Udo\, Tristan\, Michael\, Jonas I
URL:/event/sportlerkerwa-des-tsv-kirchehrenbach/
CATEGORIES:Events,Turniere,Turniere extern
END:VEVENT
BEGIN:VEVENT
DTSTART;TZID=Europe/Berlin:20250706T113000
DTEND;TZID=Europe/Berlin:20250706T183000
DTSTAMP:20260424T173600
CREATED:20250513T104406Z
LAST-MODIFIED:20250513T105228Z
UID:11391-1751801400-1751826600@www.schachclub-forchheim.de
SUMMARY:Rapidturnier Bamberg
DESCRIPTION:Moses-Höflein-Blitzschachturnier der israelischen Kultusgemeinde Bamberg \ndeutschjuedisches-blitzturnier-2025-ausschreibung
URL:/event/blitzturnier-bamberg/
CATEGORIES:Turniere,Turniere extern
END:VEVENT
BEGIN:VEVENT
DTSTART;TZID=Europe/Berlin:20250711T170000
DTEND;TZID=Europe/Berlin:20250711T190000
DTSTAMP:20260424T173600
CREATED:20250525T153207Z
LAST-MODIFIED:20250525T153405Z
UID:11428-1752253200-1752260400@www.schachclub-forchheim.de
SUMMARY:Jugendschach
DESCRIPTION:
URL:/event/jugendschach-32/
CATEGORIES:Jugend,Training
END:VEVENT
BEGIN:VEVENT
DTSTART;TZID=Europe/Berlin:20250711T190000
DTEND;TZID=Europe/Berlin:20250711T200000
DTSTAMP:20260424T173600
CREATED:20250623T181232Z
LAST-MODIFIED:20250623T181233Z
UID:11498-1752260400-1752264000@www.schachclub-forchheim.de
SUMMARY:Mannschaftssitzung
DESCRIPTION:
URL:/event/mannschaftssitzung/
CATEGORIES:Events
END:VEVENT
BEGIN:VEVENT
DTSTART;TZID=Europe/Berlin:20250711T190000
DTEND;TZID=Europe/Berlin:20250711T220000
DTSTAMP:20260424T173600
CREATED:20250513T104531Z
LAST-MODIFIED:20250513T104531Z
UID:11394-1752260400-1752271200@www.schachclub-forchheim.de
SUMMARY:13. Stadtblitzmeisterschaft Bamberg
DESCRIPTION:stadtblitz-2025-ausschreibung
URL:/event/13-stadtblitzmeisterschaft-bamberg/
CATEGORIES:Turniere,Turniere extern
END:VEVENT
BEGIN:VEVENT
DTSTART;TZID=Europe/Berlin:20250718T170000
DTEND;TZID=Europe/Berlin:20250718T190000
DTSTAMP:20260424T173600
CREATED:20250525T153228Z
LAST-MODIFIED:20250525T153428Z
UID:11430-1752858000-1752865200@www.schachclub-forchheim.de
SUMMARY:Jugendschach
DESCRIPTION:
URL:/event/jugendschach-33/
CATEGORIES:Jugend,Training
END:VEVENT
BEGIN:VEVENT
DTSTART;TZID=Europe/Berlin:20250718T173000
DTEND;TZID=Europe/Berlin:20250718T190000
DTSTAMP:20260424T173600
CREATED:20250525T153603Z
LAST-MODIFIED:20250525T153603Z
UID:11436-1752859800-1752865200@www.schachclub-forchheim.de
SUMMARY:Sommer-Blitzturnier
DESCRIPTION:
URL:/event/sommer-blitzturnier/
CATEGORIES:Jugend,Turniere,Turniere intern
END:VEVENT
BEGIN:VEVENT
DTSTART;TZID=Europe/Berlin:20250718T193000
DTEND;TZID=Europe/Berlin:20250718T220000
DTSTAMP:20260424T173600
CREATED:20250305T220716Z
LAST-MODIFIED:20250623T182216Z
UID:11186-1752867000-1752876000@www.schachclub-forchheim.de
SUMMARY:VM Runde 6
DESCRIPTION:Nachholtermin für C-Gruppe
URL:/event/vm-runde-6/
CATEGORIES:Turniere,Turniere intern
END:VEVENT
BEGIN:VEVENT
DTSTART;TZID=Europe/Berlin:20250725T170000
DTEND;TZID=Europe/Berlin:20250725T190000
DTSTAMP:20260424T173600
CREATED:20250525T153326Z
LAST-MODIFIED:20250525T153326Z
UID:11434-1753462800-1753470000@www.schachclub-forchheim.de
SUMMARY:Jugendschach
DESCRIPTION:
URL:/event/jugendschach-35/
CATEGORIES:Jugend,Training
END:VEVENT
BEGIN:VEVENT
DTSTART;TZID=Europe/Berlin:20250726T090000
DTEND;TZID=Europe/Berlin:20250726T160000
DTSTAMP:20260424T173600
CREATED:20250620T070122Z
LAST-MODIFIED:20250623T181313Z
UID:11489-1753520400-1753545600@www.schachclub-forchheim.de
SUMMARY:Annafest-Blitz
DESCRIPTION:
URL:/event/annafest-blitz/
CATEGORIES:Events,Turniere,Turniere extern
END:VEVENT
BEGIN:VEVENT
DTSTART;TZID=Europe/Berlin:20250726T100000
DTEND;TZID=Europe/Berlin:20250726T140000
DTSTAMP:20260424T173600
CREATED:20250110T222457Z
LAST-MODIFIED:20250711T075212Z
UID:11016-1753524000-1753538400@www.schachclub-forchheim.de
SUMMARY:NeST-Turnier Neunkirchen am Brand
DESCRIPTION:
URL:/event/nest-turnier-neunkirchen-am-brand/
LOCATION:Sportgelände\, Brandbachweg 2\, Neunkirchen am Brand\, 91077\, Germany
END:VEVENT
END:VCALENDAR