BEGIN:VCALENDAR
VERSION:2.0
PRODID:-//Schachclub Forchheim - ECPv6.15.20//NONSGML v1.0//EN
CALSCALE:GREGORIAN
METHOD:PUBLISH
X-WR-CALNAME:Schachclub Forchheim
X-ORIGINAL-URL:https://www.schachclub-forchheim.de
X-WR-CALDESC:Veranstaltungen für Schachclub Forchheim
REFRESH-INTERVAL;VALUE=DURATION:PT1H
X-Robots-Tag:noindex
X-PUBLISHED-TTL:PT1H
BEGIN:VTIMEZONE
TZID:Europe/Berlin
BEGIN:DAYLIGHT
TZOFFSETFROM:+0100
TZOFFSETTO:+0200
TZNAME:CEST
DTSTART:20240331T010000
END:DAYLIGHT
BEGIN:STANDARD
TZOFFSETFROM:+0200
TZOFFSETTO:+0100
TZNAME:CET
DTSTART:20241027T010000
END:STANDARD
BEGIN:DAYLIGHT
TZOFFSETFROM:+0100
TZOFFSETTO:+0200
TZNAME:CEST
DTSTART:20250330T010000
END:DAYLIGHT
BEGIN:STANDARD
TZOFFSETFROM:+0200
TZOFFSETTO:+0100
TZNAME:CET
DTSTART:20251026T010000
END:STANDARD
BEGIN:DAYLIGHT
TZOFFSETFROM:+0100
TZOFFSETTO:+0200
TZNAME:CEST
DTSTART:20260329T010000
END:DAYLIGHT
BEGIN:STANDARD
TZOFFSETFROM:+0200
TZOFFSETTO:+0100
TZNAME:CET
DTSTART:20261025T010000
END:STANDARD
END:VTIMEZONE
BEGIN:VEVENT
DTSTART;VALUE=DATE:20250903
DTEND;VALUE=DATE:20250909
DTSTAMP:20260424T142844
CREATED:20250319T100410Z
LAST-MODIFIED:20250319T100412Z
UID:11248-1756872000-1757303999@www.schachclub-forchheim.de
SUMMARY:7. Bamberg-Open
DESCRIPTION:
URL:/event/7-bamberg-open/
CATEGORIES:Turniere,Turniere extern
END:VEVENT
BEGIN:VEVENT
DTSTART;TZID=Europe/Berlin:20250905T170000
DTEND;TZID=Europe/Berlin:20250905T190000
DTSTAMP:20260424T142844
CREATED:20250727T093605Z
LAST-MODIFIED:20250727T093605Z
UID:11554-1757091600-1757098800@www.schachclub-forchheim.de
SUMMARY:Jugendschach
DESCRIPTION:
URL:/event/jugendschach-39/
END:VEVENT
BEGIN:VEVENT
DTSTART;VALUE=DATE:20250912
DTEND;VALUE=DATE:20250916
DTSTAMP:20260424T142844
CREATED:20250720T072759Z
LAST-MODIFIED:20250720T072849Z
UID:11530-1757649600-1757908799@www.schachclub-forchheim.de
SUMMARY:Zabo-Open Nürnberg
DESCRIPTION:Open2025_Ausschreibung
URL:/event/zabo-open/
CATEGORIES:Turniere,Turniere extern
END:VEVENT
BEGIN:VEVENT
DTSTART;TZID=Europe/Berlin:20250912T170000
DTEND;TZID=Europe/Berlin:20250912T190000
DTSTAMP:20260424T142844
CREATED:20250727T093639Z
LAST-MODIFIED:20250727T093639Z
UID:11557-1757696400-1757703600@www.schachclub-forchheim.de
SUMMARY:Jugendschach
DESCRIPTION:
URL:/event/jugendschach-40/
END:VEVENT
BEGIN:VEVENT
DTSTART;TZID=Europe/Berlin:20250919T170000
DTEND;TZID=Europe/Berlin:20250919T190000
DTSTAMP:20260424T142844
CREATED:20250727T093945Z
LAST-MODIFIED:20250727T093945Z
UID:11559-1758301200-1758308400@www.schachclub-forchheim.de
SUMMARY:Jugendschach
DESCRIPTION:
URL:/event/jugendschach-41/
END:VEVENT
BEGIN:VEVENT
DTSTART;TZID=Europe/Berlin:20250926T170000
DTEND;TZID=Europe/Berlin:20250926T190000
DTSTAMP:20260424T142844
CREATED:20250727T094224Z
LAST-MODIFIED:20250727T094224Z
UID:11561-1758906000-1758913200@www.schachclub-forchheim.de
SUMMARY:Jugendschach
DESCRIPTION:
URL:/event/jugendschach-42/
END:VEVENT
BEGIN:VEVENT
DTSTART;TZID=Europe/Berlin:20250927T100000
DTEND;TZID=Europe/Berlin:20250927T170000
DTSTAMP:20260424T142844
CREATED:20250710T211426Z
LAST-MODIFIED:20250710T211426Z
UID:11523-1758967200-1758992400@www.schachclub-forchheim.de
SUMMARY:Dinkelsbühler Jugend-Cup
DESCRIPTION:Jugendcup_2025 (1)
URL:/event/dinkelsbuehler-jugend-cup/
CATEGORIES:Jugend,Turniere,Turniere extern
END:VEVENT
END:VCALENDAR